BEGIN:VCALENDAR
VERSION:2.0
PRODID:-//Here Tomorrow - ECPv6.15.20//NONSGML v1.0//EN
CALSCALE:GREGORIAN
METHOD:PUBLISH
X-ORIGINAL-URL:https://heretomorrow.org
X-WR-CALDESC:Events for Here Tomorrow
REFRESH-INTERVAL;VALUE=DURATION:PT1H
X-Robots-Tag:noindex
X-PUBLISHED-TTL:PT1H
BEGIN:VTIMEZONE
TZID:America/New_York
BEGIN:DAYLIGHT
TZOFFSETFROM:-0500
TZOFFSETTO:-0400
TZNAME:EDT
DTSTART:20250309T070000
END:DAYLIGHT
BEGIN:STANDARD
TZOFFSETFROM:-0400
TZOFFSETTO:-0500
TZNAME:EST
DTSTART:20251102T060000
END:STANDARD
BEGIN:DAYLIGHT
TZOFFSETFROM:-0500
TZOFFSETTO:-0400
TZNAME:EDT
DTSTART:20260308T070000
END:DAYLIGHT
BEGIN:STANDARD
TZOFFSETFROM:-0400
TZOFFSETTO:-0500
TZNAME:EST
DTSTART:20261101T060000
END:STANDARD
BEGIN:DAYLIGHT
TZOFFSETFROM:-0500
TZOFFSETTO:-0400
TZNAME:EDT
DTSTART:20270314T070000
END:DAYLIGHT
BEGIN:STANDARD
TZOFFSETFROM:-0400
TZOFFSETTO:-0500
TZNAME:EST
DTSTART:20271107T060000
END:STANDARD
END:VTIMEZONE
BEGIN:VEVENT
DTSTART;TZID=America/New_York:20260220T100000
DTEND;TZID=America/New_York:20260220T153000
DTSTAMP:20260419T120153
CREATED:20260211T142425Z
LAST-MODIFIED:20260211T142452Z
UID:2854-1771581600-1771601400@heretomorrow.org
SUMMARY:Youth Mental Health First Aid
DESCRIPTION:Youth Mental Health First Aid teaches you how to identify\, understand\, and respond to signs of mental health and substance use challenges among young people.\n\n\nThis YMHFA training at Here Tomorrow is open to anyone in the community at NO COST:\nSimply reach out to Maia.Savage@heretomorrow.org or Emily.Pope@heretomorrow.org to register for training!\n\n\n(Note that the deadline for registration is February 18)
URL:https://heretomorrow.org/event/youth-mental-health-first-aid/
LOCATION:Here Tomorrow\, 910 3rd Street\, Neptune Beach\, FL\, 32266\, United States
ATTACH;FMTTYPE=image/png:https://heretomorrow.org/wp-content/uploads/2026/02/YMHFA-2.20-Marketing-1.png
END:VEVENT
END:VCALENDAR