BEGIN:VCALENDAR
VERSION:2.0
PRODID:-//Here Tomorrow - ECPv6.15.20//NONSGML v1.0//EN
CALSCALE:GREGORIAN
METHOD:PUBLISH
X-WR-CALNAME:Here Tomorrow
X-ORIGINAL-URL:https://heretomorrow.org
X-WR-CALDESC:Events for Here Tomorrow
REFRESH-INTERVAL;VALUE=DURATION:PT1H
X-Robots-Tag:noindex
X-PUBLISHED-TTL:PT1H
BEGIN:VTIMEZONE
TZID:America/New_York
BEGIN:DAYLIGHT
TZOFFSETFROM:-0500
TZOFFSETTO:-0400
TZNAME:EDT
DTSTART:20240310T070000
END:DAYLIGHT
BEGIN:STANDARD
TZOFFSETFROM:-0400
TZOFFSETTO:-0500
TZNAME:EST
DTSTART:20241103T060000
END:STANDARD
BEGIN:DAYLIGHT
TZOFFSETFROM:-0500
TZOFFSETTO:-0400
TZNAME:EDT
DTSTART:20250309T070000
END:DAYLIGHT
BEGIN:STANDARD
TZOFFSETFROM:-0400
TZOFFSETTO:-0500
TZNAME:EST
DTSTART:20251102T060000
END:STANDARD
BEGIN:DAYLIGHT
TZOFFSETFROM:-0500
TZOFFSETTO:-0400
TZNAME:EDT
DTSTART:20260308T070000
END:DAYLIGHT
BEGIN:STANDARD
TZOFFSETFROM:-0400
TZOFFSETTO:-0500
TZNAME:EST
DTSTART:20261101T060000
END:STANDARD
END:VTIMEZONE
BEGIN:VEVENT
DTSTART;TZID=America/New_York:20250823T100000
DTEND;TZID=America/New_York:20250823T130000
DTSTAMP:20260424T090256
CREATED:20250423T175450Z
LAST-MODIFIED:20250831T150538Z
UID:2050-1755943200-1755954000@heretomorrow.org
SUMMARY:Here Tomorrow ECHO Fair
DESCRIPTION:Here Tomorrow\, Greater Jacksonville’s go-to suicide prevention resource\, hosts its inaugural ECHO Fair on Saturday\, August 23 from 10 am to 1 pm at Jarboe Park (510 Florida Blvd. in Neptune Beach). ECHO stands for Expression\, Connection & Healing Opportunity. \nThe ECHO Fair is free to the public and will connect attendees with Here Tomorrow\, located across the street from Jarboe Park\, as well as more than 40 other local resources. Among the participating organizations are treatment centers\, clinical providers and nonprofits supporting teenagers\, military\, first responders\, the LGBTQ+ community\, and individuals experiencing homelessness. \nThe fair also features engaging speakers\, delicious food trucks\, and fun activities such as wellness toolboxes\, playground scavenger hunts\, community art pieces\, and teen social media challenges. \n“It truly takes a village to provide the care and support everyone deserves on their mental health journey\,” says event organizer Maia Savage. “We hope the ECHO Fair shows our community members that they are not alone. There are so many people who are here for them!” \nThe Here Tomorrow ECHO Fair is sponsored by Sophros Recovery\, Sulzbacher\, Wekiva Springs Center\, Winings Wellness\, The Blessing Girl\, Tony’s European Auto Service\, Design Recovery\, Vijapura Psychiatry\, Jacksonville-Oceanside Rotary and Healing Hobbies.
URL:https://heretomorrow.org/event/echo-fair/
LOCATION:Jarboe Park\, 510 Florida Blvd\, Neptune Beach\, 32266\, United States
ATTACH;FMTTYPE=application/pdf:https://heretomorrow.org/wp-content/uploads/2025/04/ECHO-Fair-Flyer-2025-FINAL.pdf
END:VEVENT
END:VCALENDAR