BEGIN:VCALENDAR
VERSION:2.0
PRODID:-//Here Tomorrow - ECPv6.15.20//NONSGML v1.0//EN
CALSCALE:GREGORIAN
METHOD:PUBLISH
X-ORIGINAL-URL:https://heretomorrow.org
X-WR-CALDESC:Events for Here Tomorrow
REFRESH-INTERVAL;VALUE=DURATION:PT1H
X-Robots-Tag:noindex
X-PUBLISHED-TTL:PT1H
BEGIN:VTIMEZONE
TZID:America/New_York
BEGIN:DAYLIGHT
TZOFFSETFROM:-0500
TZOFFSETTO:-0400
TZNAME:EDT
DTSTART:20230312T070000
END:DAYLIGHT
BEGIN:STANDARD
TZOFFSETFROM:-0400
TZOFFSETTO:-0500
TZNAME:EST
DTSTART:20231105T060000
END:STANDARD
BEGIN:DAYLIGHT
TZOFFSETFROM:-0500
TZOFFSETTO:-0400
TZNAME:EDT
DTSTART:20240310T070000
END:DAYLIGHT
BEGIN:STANDARD
TZOFFSETFROM:-0400
TZOFFSETTO:-0500
TZNAME:EST
DTSTART:20241103T060000
END:STANDARD
BEGIN:DAYLIGHT
TZOFFSETFROM:-0500
TZOFFSETTO:-0400
TZNAME:EDT
DTSTART:20250309T070000
END:DAYLIGHT
BEGIN:STANDARD
TZOFFSETFROM:-0400
TZOFFSETTO:-0500
TZNAME:EST
DTSTART:20251102T060000
END:STANDARD
END:VTIMEZONE
BEGIN:VEVENT
DTSTART;TZID=America/New_York:20241019T090000
DTEND;TZID=America/New_York:20241019T130000
DTSTAMP:20260420T222527
CREATED:20240827T224325Z
LAST-MODIFIED:20240827T224325Z
UID:1787-1729328400-1729342800@heretomorrow.org
SUMMARY:NAMIWalks Jacksonville
DESCRIPTION:NAMIWalks participants like you don’t just walk the walk. You are the walk. NAMIWalks is about people who think nothing of giving everything – their time\, their stories\, their heartfelt dedication to the cause: Mental Health for All. Now it’s your turn to step forward. To join our caring community or to welcome new friends. To accept the challenge and become the change through your commitment\, togetherness and laughter. To fuel mental health awareness\, raise funds for NAMI’s mission and let people know they are not alone.
URL:https://heretomorrow.org/event/namiwalks-jacksonville/
LOCATION:Winston Family YMCA\, 221 Riverside Ave\, Jacksonville\, FL\, 32202
ATTACH;FMTTYPE=image/png:https://heretomorrow.org/wp-content/uploads/2024/08/logoImage.png
END:VEVENT
END:VCALENDAR